BEGIN:VCALENDAR
VERSION:2.0
PRODID:-//The Method World - ECPv6.3.3.1//NONSGML v1.0//EN
CALSCALE:GREGORIAN
METHOD:PUBLISH
X-ORIGINAL-URL:https://themethod.world
X-WR-CALDESC:Events for The Method World
REFRESH-INTERVAL;VALUE=DURATION:PT1H
X-Robots-Tag:noindex
X-PUBLISHED-TTL:PT1H
BEGIN:VTIMEZONE
TZID:America/Costa_Rica
BEGIN:STANDARD
TZOFFSETFROM:-0600
TZOFFSETTO:-0600
TZNAME:CST
DTSTART:20220101T000000
END:STANDARD
END:VTIMEZONE
BEGIN:VEVENT
DTSTART;TZID=America/Costa_Rica:20221001T100000
DTEND;TZID=America/Costa_Rica:20221001T140000
DTSTAMP:20260422T081003
CREATED:20220812T224719Z
LAST-MODIFIED:20220826T193143Z
UID:250-1664618400-1664632800@themethod.world
SUMMARY:Workshop 4 | Hypnosis
DESCRIPTION:Hypnosis\n• What is it? How does it work? How to access and communicate with our deep selves? •\nThis workshop is an introduction to the subtle world of our unconscious mind. We will see how our mind is influenced by our deep emotional state\, most of the time unconsciously\, and watch a live session performed on a participant and realize how our inner bonds and mental cages are controlling our life. \nDate & Time\nOctober 1st\, 2022 | 10 AM – 2 PM \nLocation\nMountain’s Shadow Light\, Las Tumbas\, Costa Rica\nDirections: https://goo.gl/maps/aoznb8nSDg9FjEss8\nInside Pure Life. Gates code: 6448 \nPlanning \n\n10:00 AM: Arrival\, refreshing fruit buffet (included)\n10.30 AM: Talk about the topic\n12:00 PM: Lunch break (vegan Lunch: ₡8mil\, or possibility to bring your own packed lunch)\n12.30 PM: Practice on the NVC and on the workshop’s topic\n1.30 PM: Talk and conclusion\n2 PM: Q&A and forum\n\nIt is possible to stay longer and also available for a massage. \nPrice\n$70 (₡46mil)\nLunch: $12 (₡8mil) \nA 20% discount is applied for the purchase of 5 workshops\, or more if you bring friends (cash only with friends)\nPayment in cash is available at the door\, please contact us in advance at info@themethod.world \n  \nBOOK YOUR SPOT HERE
URL:https://themethod.world/event/workshop-4-hypnosis/
LOCATION:The Mountain’s Shadow Light\, Las Tumbas\, San José\, Costa Rica
CATEGORIES:Holistic Discovery,Workshop Series
ATTACH;FMTTYPE=image/png:https://themethod.world/wp-content/uploads/2022/08/Insta-Workshop-4.png
ORGANIZER;CN="Glauco Donati":MAILTO:info@themethod.world
END:VEVENT
BEGIN:VEVENT
DTSTART;TZID=America/Costa_Rica:20221008T100000
DTEND;TZID=America/Costa_Rica:20221008T140000
DTSTAMP:20260422T081003
CREATED:20220812T224802Z
LAST-MODIFIED:20220826T193240Z
UID:252-1665223200-1665237600@themethod.world
SUMMARY:Workshop 5 | Non-Verbal Communication
DESCRIPTION:Non-Verbal communication\n• The 4 channels of NVC •\nThis workshop is specifically tailored to the 4 channels of Non-Verbal Communication.\nThey are: \n\nThe proxemic\nThe kinesic\nThe paralinguistic/paraverbal\nThe digital/the touch\n\nThese are powerful ways to enter one’s reality and they can generate great tension to the point of literally hypnotizing the receiver. \nDate & Time\nOctober 8th\, 2022 | 10 AM – 2 PM \nLocation\nMountain’s Shadow Light\, Las Tumbas\, Costa Rica\nDirections: https://goo.gl/maps/aoznb8nSDg9FjEss8\nInside Pure Life. Gates code: 6448 \nPlanning \n\n10:00 AM: Arrival\, refreshing fruit buffet (included)\n10.30 AM: Talk about the topic\n12:00 PM: Lunch break (vegan Lunch: ₡8mil\, or possibility to bring your own packed lunch)\n12.30 PM: Practice on the NVC and on the workshop’s topic\n1.30 PM: Talk and conclusion\n2 PM: Q&A and forum\n\nIt is possible to stay longer and also available for a massage. \nPrice\n$70 (₡46mil)\nLunch: $12 (₡8mil) \nA 20% discount is applied for the purchase of 5 workshops\, or more if you bring friends (cash only with friends)\nPayment in cash is available at the door\, please contact us in advance at info@themethod.world \n  \nBOOK YOUR SPOT HERE
URL:https://themethod.world/event/workshop-5-non-verbal-communication/
LOCATION:The Mountain’s Shadow Light\, Las Tumbas\, San José\, Costa Rica
CATEGORIES:Holistic Discovery,Workshop Series
ATTACH;FMTTYPE=image/png:https://themethod.world/wp-content/uploads/2022/08/Insta-Workshop-5.png
ORGANIZER;CN="Glauco Donati":MAILTO:info@themethod.world
END:VEVENT
BEGIN:VEVENT
DTSTART;TZID=America/Costa_Rica:20221015T100000
DTEND;TZID=America/Costa_Rica:20221015T140000
DTSTAMP:20260422T081003
CREATED:20220812T224826Z
LAST-MODIFIED:20220826T193338Z
UID:254-1665828000-1665842400@themethod.world
SUMMARY:Workshop 6 | The fundamental needs
DESCRIPTION:The fundamental needs\n• What money can’t buy •\nThis workshop explains how our fundamental needs\, if not fulfilled\, rule our lives. And also\, on a subtle level\, people act in order to fulfill them. We can therefore understand where one stands and give help or exploit… it’s our choice. \nDate & Time\nOctober 15th\, 2022 | 10 AM – 2 PM \nLocation\nMountain’s Shadow Light\, Las Tumbas\, Costa Rica\nDirections: https://goo.gl/maps/aoznb8nSDg9FjEss8\nInside Pure Life. Gates code: 6448 \nPlanning \n\n10:00 AM: Arrival\, refreshing fruit buffet (included)\n10.30 AM: Talk about the topic\n12:00 PM: Lunch break (vegan Lunch: ₡8mil\, or possibility to bring your own packed lunch)\n12.30 PM: Practice on the NVC and on the workshop’s topic\n1.30 PM: Talk and conclusion\n2 PM: Q&A and forum\n\nIt is possible to stay longer and also available for a massage. \nPrice\n$70 (₡46mil)\nLunch: $12 (₡8mil) \nA 20% discount is applied for the purchase of 5 workshops\, or more if you bring friends (cash only with friends)\nPayment in cash is available at the door\, please contact us in advance at info@themethod.world \n  \nBOOK YOUR SPOT HERE
URL:https://themethod.world/event/workshop-6-the-fundamental-needs/
LOCATION:The Mountain’s Shadow Light\, Las Tumbas\, San José\, Costa Rica
CATEGORIES:Holistic Discovery,Workshop Series
ATTACH;FMTTYPE=image/png:https://themethod.world/wp-content/uploads/2022/08/Insta-Workshop-6.png
ORGANIZER;CN="Glauco Donati":MAILTO:info@themethod.world
END:VEVENT
BEGIN:VEVENT
DTSTART;TZID=America/Costa_Rica:20221022T100000
DTEND;TZID=America/Costa_Rica:20221022T140000
DTSTAMP:20260422T081003
CREATED:20220812T224848Z
LAST-MODIFIED:20220826T193344Z
UID:256-1666432800-1666447200@themethod.world
SUMMARY:Workshop 7 | Man & Women / Male and female
DESCRIPTION:Man & Women / Male and female\n• What are the differences between these two terms? •\nThis is a counterintuitive workshop that focuses on the aspect of male/female and man/woman.\nIt will explain what Male and Female unconsciously want\, from the point of view of the worthiness and dignity of these two characteristics. \nDate & Time\nOctober 22nd\, 2022 | 10 AM – 2 PM \nLocation\nMountain’s Shadow Light\, Las Tumbas\, Costa Rica\nDirections: https://goo.gl/maps/aoznb8nSDg9FjEss8\nInside Pure Life. Gates code: 6448 \nPlanning \n\n10:00 AM: Arrival\, refreshing fruit buffet (included)\n10.30 AM: Talk about the topic\n12:00 PM: Lunch break (vegan Lunch: ₡8mil\, or possibility to bring your own packed lunch)\n12.30 PM: Practice on the NVC and on the workshop’s topic\n1.30 PM: Talk and conclusion\n2 PM: Q&A and forum\n\nIt is possible to stay longer and also available for a massage. \nPrice\n$70 (₡46mil)\nLunch: $12 (₡8mil) \nA 20% discount is applied for the purchase of 5 workshops\, or more if you bring friends (cash only with friends)\nPayment in cash is available at the door\, please contact us in advance at info@themethod.world \n  \nBOOK YOUR SPOT HERE
URL:https://themethod.world/event/workshop-7-man-women-male-and-female/
LOCATION:The Mountain’s Shadow Light\, Las Tumbas\, San José\, Costa Rica
CATEGORIES:Holistic Discovery,Workshop Series
ATTACH;FMTTYPE=image/png:https://themethod.world/wp-content/uploads/2022/08/Insta-Workshop-7.png
ORGANIZER;CN="Glauco Donati":MAILTO:info@themethod.world
END:VEVENT
BEGIN:VEVENT
DTSTART;TZID=America/Costa_Rica:20221029T100000
DTEND;TZID=America/Costa_Rica:20221029T140000
DTSTAMP:20260422T081003
CREATED:20220812T224907Z
LAST-MODIFIED:20220826T193351Z
UID:258-1667037600-1667052000@themethod.world
SUMMARY:Workshop 8 | The body language
DESCRIPTION:The body language\n• The lies & how to see them •\nBody language expresses how we feel in real-time. If we can read the body\, we will know the truth about that person because for the unconscious mind\, there is no good or bad\, and it is incapable of telling lies. We can only lie with our conscious mind\, and if we do\, we will experience emotional tension that will be reflected in the body\, thus altering our behavior. In that case\, it is easy to spot a liar. \nDate & Time\nOctober 29th\, 2022 | 10 AM – 2 PM \nLocation\nMountain’s Shadow Light\, Las Tumbas\, Costa Rica\nDirections: https://goo.gl/maps/aoznb8nSDg9FjEss8\nInside Pure Life. Gates code: 6448 \nPlanning \n\n10:00 AM: Arrival\, refreshing fruit buffet (included)\n10.30 AM: Talk about the topic\n12:00 PM: Lunch break (vegan Lunch: ₡8mil\, or possibility to bring your own packed lunch)\n12.30 PM: Practice on the NVC and on the workshop’s topic\n1.30 PM: Talk and conclusion\n2 PM: Q&A and forum\n\nIt is possible to stay longer and also available for a massage. \nPrice\n$70 (₡46mil)\nLunch: $12 (₡8mil) \nA 20% discount is applied for the purchase of 5 workshops\, or more if you bring friends (cash only with friends)\nPayment in cash is available at the door\, please contact us in advance at info@themethod.world \n  \nBOOK YOUR SPOT HERE
URL:https://themethod.world/event/workshop-8-the-body-language/
LOCATION:The Mountain’s Shadow Light\, Las Tumbas\, San José\, Costa Rica
CATEGORIES:Holistic Discovery,Workshop Series
ATTACH;FMTTYPE=image/png:https://themethod.world/wp-content/uploads/2022/08/Insta-Workshop-8.png
ORGANIZER;CN="Glauco Donati":MAILTO:info@themethod.world
END:VEVENT
END:VCALENDAR