BEGIN:VCALENDAR
VERSION:2.0
PRODID:-//The Method World - ECPv6.3.3.1//NONSGML v1.0//EN
CALSCALE:GREGORIAN
METHOD:PUBLISH
X-ORIGINAL-URL:https://themethod.world
X-WR-CALDESC:Events for The Method World
REFRESH-INTERVAL;VALUE=DURATION:PT1H
X-Robots-Tag:noindex
X-PUBLISHED-TTL:PT1H
BEGIN:VTIMEZONE
TZID:America/Costa_Rica
BEGIN:STANDARD
TZOFFSETFROM:-0600
TZOFFSETTO:-0600
TZNAME:CST
DTSTART:20220101T000000
END:STANDARD
END:VTIMEZONE
BEGIN:VEVENT
DTSTART;TZID=America/Costa_Rica:20221126T100000
DTEND;TZID=America/Costa_Rica:20221126T140000
DTSTAMP:20260422T164954
CREATED:20220812T225148Z
LAST-MODIFIED:20220826T193435Z
UID:266-1669456800-1669471200@themethod.world
SUMMARY:Workshop 12 | The emotional intelligence
DESCRIPTION:The emotional intelligence\n• What is it? •\nThere are 9 different types of intelligence that have been defined. We can go beyond and talk about emotional intelligence through which we can express our emotions and be in control by handling ourselves and others’ in interpersonal relationships. It is the key to both personal and professional success. \nDate & Time\nNovember 26th\, 2022 | 10 AM – 2 PM \nLocation\nMountain’s Shadow Light\, Las Tumbas\, Costa Rica\nDirections: https://goo.gl/maps/aoznb8nSDg9FjEss8\nInside Pure Life. Gates code: 6448 \nPlanning \n\n10:00 AM: Arrival\, refreshing fruit buffet (included)\n10.30 AM: Talk about the topic\n12:00 PM: Lunch break (vegan Lunch: ₡8mil\, or possibility to bring your own packed lunch)\n12.30 PM: Practice on the NVC and on the workshop’s topic\n1.30 PM: Talk and conclusion\n2 PM: Q&A and forum\n\nIt is possible to stay longer and also available for a massage. \nPrice\n$70 (₡46mil)\nLunch: $12 (₡8mil) \nA 20% discount is applied for the purchase of 5 workshops\, or more if you bring friends (cash only with friends)\nPayment in cash is available at the door\, please contact us in advance at info@themethod.world \n  \nBOOK YOUR SPOT HERE
URL:https://themethod.world/event/workshop-12-the-emotional-intelligence/
LOCATION:The Mountain’s Shadow Light\, Las Tumbas\, San José\, Costa Rica
CATEGORIES:Holistic Discovery,Workshop Series
ATTACH;FMTTYPE=image/png:https://themethod.world/wp-content/uploads/2022/08/Insta-Workshop-12.png
ORGANIZER;CN="Glauco Donati":MAILTO:info@themethod.world
END:VEVENT
BEGIN:VEVENT
DTSTART;TZID=America/Costa_Rica:20221203T100000
DTEND;TZID=America/Costa_Rica:20221203T140000
DTSTAMP:20260422T164954
CREATED:20220812T225211Z
LAST-MODIFIED:20220826T193441Z
UID:268-1670061600-1670076000@themethod.world
SUMMARY:Workshop 13 | Emotional relationship between Man and Woman
DESCRIPTION:The emotional relationship between Man and Woman\nMan and Woman come from two different planets. They are wired differently and once we understand the basic differences\, we will be able to relate and enjoy our relationship without taking things for granted or too personally. This workshop is for those who want to improve their quality of life in relationships. \nDate & Time\nDecember 3rd\, 2022 | 10 AM – 2 PM \nLocation\nMountain’s Shadow Light\, Las Tumbas\, Costa Rica\nDirections: https://goo.gl/maps/aoznb8nSDg9FjEss8\nInside Pure Life. Gates code: 6448 \nPlanning \n\n10:00 AM: Arrival\, refreshing fruit buffet (included)\n10.30 AM: Talk about the topic\n12:00 PM: Lunch break (vegan Lunch: ₡8mil\, or possibility to bring your own packed lunch)\n12.30 PM: Practice on the NVC and on the workshop’s topic\n1.30 PM: Talk and conclusion\n2 PM: Q&A and forum\n\nIt is possible to stay longer and also available for a massage. \nPrice\n$70 (₡46mil)\nLunch: $12 (₡8mil) \nA 20% discount is applied for the purchase of 5 workshops\, or more if you bring friends (cash only with friends)\nPayment in cash is available at the door\, please contact us in advance at info@themethod.world \n  \nBOOK YOUR SPOT HERE
URL:https://themethod.world/event/workshop-13-emotional-relationship-between-man-and-woman/
LOCATION:The Mountain’s Shadow Light\, Las Tumbas\, San José\, Costa Rica
CATEGORIES:Holistic Discovery,Workshop Series
ATTACH;FMTTYPE=image/png:https://themethod.world/wp-content/uploads/2022/08/Insta-Workshop-13.png
ORGANIZER;CN="Glauco Donati":MAILTO:info@themethod.world
END:VEVENT
BEGIN:VEVENT
DTSTART;TZID=America/Costa_Rica:20221210T100000
DTEND;TZID=America/Costa_Rica:20221210T140000
DTSTAMP:20260422T164954
CREATED:20220812T225228Z
LAST-MODIFIED:20220826T193634Z
UID:270-1670666400-1670680800@themethod.world
SUMMARY:Workshop 14 | Mental maps
DESCRIPTION:Mental maps\n• Change the association and life changes •\nWe all have mental maps\, and it is our representation of the world we are living in. The map is not the reality that it is intended to be. We don’t know the world\, all we know is our mental map. We can learn other maps and expand our world. In this workshop\, we will put down the beliefs\, experiences\, values\, and principles. \nDate & Time\nDecember 10th\, 2022 | 10 AM – 2 PM \nLocation\nMountain’s Shadow Light\, Las Tumbas\, Costa Rica\nDirections: https://goo.gl/maps/aoznb8nSDg9FjEss8\nInside Pure Life. Gates code: 6448 \nPlanning \n\n10:00 AM: Arrival\, refreshing fruit buffet (included)\n10.30 AM: Talk about the topic\n12:00 PM: Lunch break (vegan Lunch: ₡8mil\, or possibility to bring your own packed lunch)\n12.30 PM: Practice on the NVC and on the workshop’s topic\n1.30 PM: Talk and conclusion\n2 PM: Q&A and forum\n\nIt is possible to stay longer and also available for a massage. \nPrice\n$70 (₡46mil)\nLunch: $12 (₡8mil) \nA 20% discount is applied for the purchase of 5 workshops\, or more if you bring friends (cash only with friends)\nPayment in cash is available at the door\, please contact us in advance at info@themethod.world \n  \nBOOK YOUR SPOT HERE
URL:https://themethod.world/event/workshop-14-mental-maps/
LOCATION:The Mountain’s Shadow Light\, Las Tumbas\, San José\, Costa Rica
CATEGORIES:Holistic Discovery,Workshop Series
ATTACH;FMTTYPE=image/png:https://themethod.world/wp-content/uploads/2022/08/Insta-Workshop-14.png
ORGANIZER;CN="Glauco Donati":MAILTO:info@themethod.world
END:VEVENT
BEGIN:VEVENT
DTSTART;TZID=America/Costa_Rica:20221217T100000
DTEND;TZID=America/Costa_Rica:20221217T140000
DTSTAMP:20260422T164954
CREATED:20220812T225245Z
LAST-MODIFIED:20220826T193641Z
UID:272-1671271200-1671285600@themethod.world
SUMMARY:Workshop 15 | The rapport
DESCRIPTION:The rapport\n• What it is and why it is so important in any type of communication between people? •\nRapport is a harmonious way of communication between you and someone else like\, husband and wife\, doctor and patient\, teacher and student\, etc. until the most important one is the rapport with ourselves. Understand symmetrical and complementary communication. \nDate & Time\nDecember 17th\, 2022 | 10 AM – 2 PM \nLocation\nMountain’s Shadow Light\, Las Tumbas\, Costa Rica\nDirections: https://goo.gl/maps/aoznb8nSDg9FjEss8\nInside Pure Life. Gates code: 6448 \nPlanning \n\n10:00 AM: Arrival\, refreshing fruit buffet (included)\n10.30 AM: Talk about the topic\n12:00 PM: Lunch break (vegan Lunch: ₡8mil\, or possibility to bring your own packed lunch)\n12.30 PM: Practice on the NVC and on the workshop’s topic\n1.30 PM: Talk and conclusion\n2 PM: Q&A and forum\n\nIt is possible to stay longer and also available for a massage. \nPrice\n$70 (₡46mil)\nLunch: $12 (₡8mil) \nA 20% discount is applied for the purchase of 5 workshops\, or more if you bring friends (cash only with friends)\nPayment in cash is available at the door\, please contact us in advance at info@themethod.world \n 
URL:https://themethod.world/event/holistic-discovery-workshop-15-the-rapport/
LOCATION:The Mountain’s Shadow Light\, Las Tumbas\, San José\, Costa Rica
CATEGORIES:Holistic Discovery,Workshop Series
ATTACH;FMTTYPE=image/png:https://themethod.world/wp-content/uploads/2022/08/Insta-Workshop-15.png
ORGANIZER;CN="Glauco Donati":MAILTO:info@themethod.world
END:VEVENT
END:VCALENDAR