BEGIN:VCALENDAR
VERSION:2.0
PRODID:-//The Method World - ECPv6.3.3.1//NONSGML v1.0//EN
CALSCALE:GREGORIAN
METHOD:PUBLISH
X-ORIGINAL-URL:https://themethod.world
X-WR-CALDESC:Events for The Method World
REFRESH-INTERVAL;VALUE=DURATION:PT1H
X-Robots-Tag:noindex
X-PUBLISHED-TTL:PT1H
BEGIN:VTIMEZONE
TZID:America/Costa_Rica
BEGIN:STANDARD
TZOFFSETFROM:-0600
TZOFFSETTO:-0600
TZNAME:CST
DTSTART:20220101T000000
END:STANDARD
END:VTIMEZONE
BEGIN:VEVENT
DTSTART;TZID=America/Costa_Rica:20221105T100000
DTEND;TZID=America/Costa_Rica:20221105T140000
DTSTAMP:20260422T094936
CREATED:20220812T224925Z
LAST-MODIFIED:20220826T193357Z
UID:260-1667642400-1667656800@themethod.world
SUMMARY:Workshop 9 | Hypnotic communication
DESCRIPTION:Hypnotic communication\n• What no one notices. Experiments with Dynamic Hypnosis •\nCommunication is a great and vast topic to be fulfilled in a short time. This workshop focuses on hypnotic communication. This happens when the person is trapped without knowing. Although the person is completely awake\, it is possible to gain hypnotic potential. This is when somebody follows us\, for example when accompanying us to the door or when someone offers to help us without a specific reason. We must bear in mind that no one does anything if there is no emotional involvement. In fact\, without the emotional state\, we do not perceive reality. So\, if we can create a high and positive emotional state\, we gain what is called “hypnotic potential” and our interlocutor will offer spontaneously what is needed\, a call to action. \nDate & Time\nNovember 5th\, 2022 | 10 AM – 2 PM \nLocation\nMountain’s Shadow Light\, Las Tumbas\, Costa Rica\nDirections: https://goo.gl/maps/aoznb8nSDg9FjEss8\nInside Pure Life. Gates code: 6448 \nPlanning \n\n10:00 AM: Arrival\, refreshing fruit buffet (included)\n10.30 AM: Talk about the topic\n12:00 PM: Lunch break (vegan Lunch: ₡8mil\, or possibility to bring your own packed lunch)\n12.30 PM: Practice on the NVC and on the workshop’s topic\n1.30 PM: Talk and conclusion\n2 PM: Q&A and forum\n\nIt is possible to stay longer and also available for a massage. \nPrice\n$70 (₡46mil)\nLunch: $12 (₡8mil) \nA 20% discount is applied for the purchase of 5 workshops\, or more if you bring friends (cash only with friends)\nPayment in cash is available at the door\, please contact us in advance at info@themethod.world \n  \nBOOK YOUR SPOT HERE
URL:https://themethod.world/event/workshop-9-hypnotic-communication/
LOCATION:The Mountain’s Shadow Light\, Las Tumbas\, San José\, Costa Rica
CATEGORIES:Holistic Discovery,Workshop Series
ATTACH;FMTTYPE=image/png:https://themethod.world/wp-content/uploads/2022/08/Insta-Workshop-9.png
ORGANIZER;CN="Glauco Donati":MAILTO:info@themethod.world
END:VEVENT
END:VCALENDAR